BEGIN:VCALENDAR
PRODID:-//eluceo/ical//2.0/EN
VERSION:2.0
CALSCALE:GREGORIAN
BEGIN:VEVENT
UID:3ab3e8b626b5d88ee62a303c4e1c8c1b
DTSTAMP:20260424T045621Z
SUMMARY:Purim at the Circus
DESCRIPTION:Jewish Federation of Greater Portland\nCommunity Calendar\nhttp
 s://jewishportland.org/community-calendar/purim-at-the-circus-1771435085\n
 \nStep right up for an unforgettable Purim at the Circus celebration prese
 nted by Chabad of Northeast Portland! Families are invited to an evening o
 f festive fun featuring an inspiring Megillah reading\, masquerade festivi
 ties\, EZRyders\, unprofessional juggling with Rabbi & Co.\, exciting circ
 us discovery activities\, and a delicious Purim dinner. Join us on March 3
 \, 2026\, from 5:00–7:00 PM at the Chabad Center (4635 NE 9th Ave) for a
  joyful celebration filled with laughter\, costumes\, and Purim ...
DTSTART;TZID=America/Los_Angeles:20260303T170000
DTEND;TZID=America/Los_Angeles:20260303T190000
END:VEVENT
END:VCALENDAR
