BEGIN:VCALENDAR
PRODID:-//eluceo/ical//2.0/EN
VERSION:2.0
CALSCALE:GREGORIAN
BEGIN:VEVENT
UID:9c100be372a7037eed5a263844a72bd9
DTSTAMP:20260425T200722Z
SUMMARY:Purim Klemzer celebration
DESCRIPTION:Jewish Federation of Greater Portland\nCommunity Calendar\nhttp
 s://jewishportland.org/community-calendar/purim-klemzer-celebration-177129
 2307\n\nJoin us for a special Purim Seduah evening of Klezmer music with H
 avrayya.\nHavrayya is a rotating collective of Klezmer musicians exploring
  turn-of-the-century traditions. Led by David Rosman and Ross Fish\, their
  performances unfold in a free-flowing stream of tunes\, echoing the spiri
 t of historic Jewish celebrations and creating a festive\, laid-back atmos
 phere reminiscent of a lively pub session. Sliding-scale donation suggeste
 d: $5–$10\nNo one turned away for lack of funds.
DTSTART;TZID=America/Los_Angeles:20260303T193000
DTEND;TZID=America/Los_Angeles:20260303T213000
END:VEVENT
END:VCALENDAR
