BEGIN:VCALENDAR
PRODID:-//eluceo/ical//2.0/EN
VERSION:2.0
CALSCALE:GREGORIAN
BEGIN:VEVENT
UID:c9e62bd4921dc91003b06ea25303da2e
DTSTAMP:20260425T225511Z
SUMMARY:QJ Roots: A Queer Jewish Youth Support Group
DESCRIPTION:Jewish Federation of Greater Portland\nCommunity Calendar\nhttp
 s://jewishportland.org/community-calendar/qj-roots-a-queer-jewish-youth-su
 pport-group\n\nQJ Roots: A Queer Jewish Youth Support Group\n\nFor ages 15
 â€“18Â | Facilitated by Adrien Wolmark\, PhD\, LCSW\n\nMeets the 1st Tuesd
 ay of every month\, 7pm-8pm on Zoom\n\nÂ \n\n\nBeing queer and Jewish can 
 be powerfulâ€”and complex. This JFCS support group offers a safe\, affirmi
 ng space for teens to explore the intersections of identity\, community\, 
 and lived experience. Whether youâ€™re navigating life transitions\, relat
 ionships\, gender identity\, sexuality\, or the stress of current events\,
  youâ...
DTSTART;TZID=America/Los_Angeles:20260804T190000
DTEND;TZID=America/Los_Angeles:20260804T200000
END:VEVENT
END:VCALENDAR
