BEGIN:VCALENDAR
PRODID:-//eluceo/ical//2.0/EN
VERSION:2.0
CALSCALE:GREGORIAN
BEGIN:VEVENT
UID:60eeccf184c6caa554835e76a8a7e149
DTSTAMP:20260424T160809Z
SUMMARY:Rescue of the Danish Jews\, One Family's Story
DESCRIPTION:Jewish Federation of Greater Portland\nCommunity Calendar\nhttp
 s://jewishportland.org/community-calendar/rescue-of-the-danish-jews-one-fa
 milys-story-1717817747\n\nRay Zuschlag tells the story of his grand-uncle 
 Master Baker Georg Ibsen and his family during the war years in Denmark. T
 he Ibsen family hid Danish Jews and members of the underground in their ba
 kery and thwarted the gestapo again and again helping to rescue the Jews f
 rom the Nazis. It's a hopeful tale of quiet heroism and escape.\n\nAll Age
 s\n\nFree and open to the public\, please register and consider donating a
 t checkout.\n\nRegister: https://events.humanitix.com/rescue-of-the-danish
 -jews-...
DTSTART;TZID=America/Los_Angeles:20240707T150000
DTEND;TZID=America/Los_Angeles:20240707T163000
END:VEVENT
END:VCALENDAR
