BEGIN:VCALENDAR
PRODID:-//eluceo/ical//2.0/EN
VERSION:2.0
CALSCALE:GREGORIAN
BEGIN:VEVENT
UID:dd27db61ee4ab78efb4730a225eeb98d
DTSTAMP:20260419T172213Z
SUMMARY:Rosh Hashanah Day 1 Young Family Services - Neveh Shalom
DESCRIPTION:Jewish Federation of Greater Portland\nCommunity Calendar\nhttp
 s://jewishportland.org/community-calendar/rosh-hashanah-day-1-young-family
 -services-neveh-shalom\n\nHigh Holiday services at Neveh Shalom\, an open 
 and egalitarian community\, are led by Rabbi David Kosak\, Rabbi Eve Posen
 \, and Cantor Eyal Bitton. We offer lively young child services as well as
  K-6 appropriate family experiences. We welcome all to experience the New 
 Year with Neveh Shalom.\n\nRegistration is Required.\nPlease visit our web
  page here for more information or to register.\nIf you have any questio
 ns please email hhd@nevehshalom.org or call the CNS office at (503)246-8
 831.\n\nY...
DTSTART;TZID=America/Los_Angeles:20210907T091500
DTEND;TZID=America/Los_Angeles:20210907T130000
END:VEVENT
END:VCALENDAR
