BEGIN:VCALENDAR
PRODID:-//eluceo/ical//2.0/EN
VERSION:2.0
CALSCALE:GREGORIAN
BEGIN:VEVENT
UID:a285a7da5762da1a47da0302459a9f49
DTSTAMP:20260423T101212Z
SUMMARY:Rosh Hashanah Services and Experiences at Congregation Beth Israel
DESCRIPTION:Jewish Federation of Greater Portland\nCommunity Calendar\nhttp
 s://jewishportland.org/community-calendar/rosh-hashanah-services-and-exper
 iences-at-congregation-beth-israel-1599863836\n\nThe CBI clergy and staff 
 have prepared a wide array of opportunities to connect and celebrate. Link
 s to all services and Zooms may be found at www.bethisrael-pdx.org/cbi5781
 \n\nTot Service – 7:00 AM\nA pre-recorded service for our littlest membe
 rs. Available for early risers\, but you’re welcome to watch whenever is
  best for your family--we know nap schedules are important!\n\nTraditional
  Service – 10:00 AM\nOur traditional Rosh Hashanah Service\, filmed in o
 ur historic Main Sanctuary.\n...
DTSTART;TZID=America/Los_Angeles:20200919T070000
DTEND;TZID=America/Los_Angeles:20200919T150000
END:VEVENT
END:VCALENDAR
