BEGIN:VCALENDAR
PRODID:-//eluceo/ical//2.0/EN
VERSION:2.0
CALSCALE:GREGORIAN
BEGIN:VEVENT
UID:9019e18c29fc82ea06de214a48c45f5c
DTSTAMP:20260424T215717Z
SUMMARY:Rosh Hashanah Traditional Service
DESCRIPTION:Jewish Federation of Greater Portland\nCommunity Calendar\nhttp
 s://jewishportland.org/community-calendar/rosh-hashanah-traditional-servic
 e-1691170658\n\nRosh Hashanah Traditional Service\n10:00 AM\nIn-Person and
  via Livestream\nMain Sanctuary\n\nCongregation Beth Israel’s traditiona
 l morning service\n\nAll who wish to join Congregation Beth Israel for the
  High Holidays are welcome to do so\; please register in advance at https:
 //www.bethisrael-pdx.org/high-holidays-guests/
DTSTART;TZID=America/Los_Angeles:20230916T100000
DTEND;TZID=America/Los_Angeles:20230916T120000
END:VEVENT
END:VCALENDAR
