BEGIN:VCALENDAR
PRODID:-//eluceo/ical//2.0/EN
VERSION:2.0
CALSCALE:GREGORIAN
BEGIN:VEVENT
UID:8f53618812c577708a65f0ae261bba4e
DTSTAMP:20260423T061503Z
SUMMARY:Schechter Spark
DESCRIPTION:Jewish Federation of Greater Portland\nCommunity Calendar\nhttp
 s://jewishportland.org/community-calendar/schechter-spark-1579208517\n\nNo
 te: This information replaces the information supplied previously.  It was
  previously called Schechter Celebrates.
DTSTART;TZID=America/Los_Angeles:20200503T110000
DTEND;TZID=America/Los_Angeles:20200503T120000
END:VEVENT
END:VCALENDAR
