BEGIN:VCALENDAR
PRODID:-//eluceo/ical//2.0/EN
VERSION:2.0
CALSCALE:GREGORIAN
BEGIN:VEVENT
UID:a80da0b416df07398ca2ce403d0e2af6
DTSTAMP:20260419T172152Z
SUMMARY:SE Portland Chabad Guys Night out
DESCRIPTION:Jewish Federation of Greater Portland\nCommunity Calendar\nhttp
 s://jewishportland.org/community-calendar/se-portland-chabad-guys-night-ou
 t-1584044724\n\nGet together with Jewish Guys in the SE community for some
  inspirational learning and a good Shmooze!\nIn memory of Rabbi Dov’s br
 other R’ Yosef Chaim A”H Ben R’ Shmuel Shlomo
DTSTART;TZID=America/Los_Angeles:20200317T190000
DTEND;TZID=America/Los_Angeles:20200317T210000
END:VEVENT
END:VCALENDAR
