BEGIN:VCALENDAR
PRODID:-//eluceo/ical//2.0/EN
VERSION:2.0
CALSCALE:GREGORIAN
BEGIN:VEVENT
UID:3631d2e34afa3b30ec2f509af71dff62
DTSTAMP:20260425T215846Z
SUMMARY:SE Portland Jewish Womens Circle
DESCRIPTION:Jewish Federation of Greater Portland\nCommunity Calendar\nhttp
 s://jewishportland.org/community-calendar/se-portland-jewish-womens-circle
 -1584044953\n\nAn inspirational monthly gathering for Jewish women in SE P
 ortland!\nIt’s a time to socialize\, learn and laugh together over tea a
 nd refreshments!
DTSTART;TZID=America/Los_Angeles:20200325T193000
DTEND;TZID=America/Los_Angeles:20200325T210000
END:VEVENT
END:VCALENDAR
