BEGIN:VCALENDAR
PRODID:-//eluceo/ical//2.0/EN
VERSION:2.0
CALSCALE:GREGORIAN
BEGIN:VEVENT
UID:3aeda8dc21f254873b3072337e9767ed
DTSTAMP:20260419T182725Z
SUMMARY:Shaarie Torah Nigunim Singing Circle
DESCRIPTION:Jewish Federation of Greater Portland\nCommunity Calendar\nhttp
 s://jewishportland.org/community-calendar/shaarie-torah-nigunim-singing-ci
 rcle\n\nThursday\, May 21\, 7:00 pm\nJoin Cantor Vitells and Sophie Enloe 
 for a soothing evening of melody and song. We'll join together over video\
 , sing some Nigunim\, many of which you may know\, but some you may not. T
 hough we cannot be together in person\, we can fill our homes with beautif
 ul song\, connect to ourselves and our voice\, and connect to each other.\
 n \n\nGrab the zoom link by registering here: https://us02web.zoom.us/mee
 ting/register/tZEkf-CppzMjGNMkmJyMs7XAdx_itfVokeIO\nRegistration is r...
DTSTART;TZID=America/Los_Angeles:20200521T190000
DTEND;TZID=America/Los_Angeles:20200521T210000
END:VEVENT
END:VCALENDAR
