BEGIN:VCALENDAR
PRODID:-//eluceo/ical//2.0/EN
VERSION:2.0
CALSCALE:GREGORIAN
BEGIN:VEVENT
UID:77a96253192455b99079f5b7a2f7c0a8
DTSTAMP:20260420T170603Z
SUMMARY:Shaba-lah Family Shabbat BBQ
DESCRIPTION:Jewish Federation of Greater Portland\nCommunity Calendar\nhttp
 s://jewishportland.org/community-calendar/shaba-lah-family-shabbat-bbq-201
 7\n\nBring your family or join your child at camp for a special Shabbat.
DTSTART;TZID=America/Los_Angeles:20170714T153000
DTEND;TZID=America/Los_Angeles:20170714T173000
END:VEVENT
END:VCALENDAR
