BEGIN:VCALENDAR
PRODID:-//eluceo/ical//2.0/EN
VERSION:2.0
CALSCALE:GREGORIAN
BEGIN:VEVENT
UID:08b4f27432976f825aadc52eb6619861
DTSTAMP:20260425T202625Z
SUMMARY:Shabbat Shebang- Corn Maze at Bella Organic Farm
DESCRIPTION:Jewish Federation of Greater Portland\nCommunity Calendar\nhttp
 s://jewishportland.org/community-calendar/shabbat-shebang--corn-maze-at-be
 lla-organic-farm-1633642041\n\n8-12th graders! Get lost at the corn maze w
 ith us at Bella Organic Farm at Sauvie Island!
DTSTART;TZID=America/Los_Angeles:20211016T203000
DTEND;TZID=America/Los_Angeles:20211016T220000
END:VEVENT
END:VCALENDAR
