BEGIN:VCALENDAR
PRODID:-//eluceo/ical//2.0/EN
VERSION:2.0
CALSCALE:GREGORIAN
BEGIN:VEVENT
UID:579a1f01cc4e161be93238914c0654ca
DTSTAMP:20260419T152743Z
SUMMARY:Shabbat Sounds
DESCRIPTION:Jewish Federation of Greater Portland\nCommunity Calendar\nhttp
 s://jewishportland.org/community-calendar/shabbat-sounds-1590164829\n\nJoi
 n us for an incredible evening of live music\, right from the comfort of y
 our home. We're excited to bring you three new artists from around the cou
 ntry for our fourth night in the Shabbat Sounds series. We'll begin with S
 habbat rituals\, then enjoy a 20-25 minute set from each artist. Engage wi
 th us off-screen or on-screen\, however you feel most comfortable. If at t
 he end of the work week\, your hopes are to close your eyes\, open your ea
 rs\, and listen to something inspiring and beautiful\, th...
DTSTART;TZID=America/Los_Angeles:20200529T173000
DTEND;TZID=America/Los_Angeles:20200529T193000
END:VEVENT
END:VCALENDAR
