BEGIN:VCALENDAR
PRODID:-//eluceo/ical//2.0/EN
VERSION:2.0
CALSCALE:GREGORIAN
BEGIN:VEVENT
UID:13d9443fcaa3f7e12e7f764dcf83f74e
DTSTAMP:20260425T151830Z
SUMMARY:Shavuot Shabbat Morning Live Streaming
DESCRIPTION:Jewish Federation of Greater Portland\nCommunity Calendar\nhttp
 s://jewishportland.org/community-calendar/shavuot-shabbat-morning-live-str
 eaming-1590169863\n\nOn Saturday\, May 30th at 10:00 AM join. Pnai Or of P
 ortland and Havurah Shir Hadash of Ashland to experience the revelation of
  Torah at Sinai. Hear the 10 Commandments chanted. We’ll reenact the wed
 ding ceremony between the Jewish people and the Holy One. The service will
  be live streaming  on the Havurah Synagogue's Facebook page at https://ww
 w.facebook.com/HavurahSynagogue/
DTSTART;TZID=America/Los_Angeles:20200530T100000
DTEND;TZID=America/Los_Angeles:20200530T120000
END:VEVENT
END:VCALENDAR
