BEGIN:VCALENDAR
PRODID:-//eluceo/ical//2.0/EN
VERSION:2.0
CALSCALE:GREGORIAN
BEGIN:VEVENT
UID:49c05e3012f8ff51ec85e71564ca7ea3
DTSTAMP:20260424T191923Z
SUMMARY:Shemini Atzert - Yizkor Service
DESCRIPTION:Jewish Federation of Greater Portland\nCommunity Calendar\nhttp
 s://jewishportland.org/community-calendar/shemini-atzert-yizkor-service\n\
 nPlease join Congregation Shaarie Torah for their Shemini Atzert Yizkor Se
 rvice.
DTSTART;TZID=America/Los_Angeles:20151005T091500
DTEND;TZID=America/Los_Angeles:20151005T121500
END:VEVENT
END:VCALENDAR
