BEGIN:VCALENDAR
PRODID:-//eluceo/ical//2.0/EN
VERSION:2.0
CALSCALE:GREGORIAN
BEGIN:VEVENT
UID:3fcf18530be7ca4c0008c6654aa7a888
DTSTAMP:20260420T071246Z
SUMMARY:Siddur Study Class led by Bob Lowe
DESCRIPTION:Jewish Federation of Greater Portland\nCommunity Calendar\nhttp
 s://jewishportland.org/community-calendar/siddur-study-class-led-by-bob-lo
 we\n\nWould you like to know more about what is going on in our prayer ser
 vices? This intro class will present a “macro” view of the Siddur (pra
 yer book)\, about how the morning prayer service takes us through the four
  worlds of Kabbalah and\, in doing so\, mirrors how we received the Torah 
 on Mt. Sinai. With this perspective\, we’ll take a quick walk through th
 e individual prayers and see how they fit in to this journey. If we have t
 ime\, we’ll take on one example of the challenge of prayers th...
DTSTART;TZID=America/Los_Angeles:20200202T140000
DTEND;TZID=America/Los_Angeles:20200202T153000
END:VEVENT
END:VCALENDAR
