BEGIN:VCALENDAR
PRODID:-//eluceo/ical//2.0/EN
VERSION:2.0
CALSCALE:GREGORIAN
BEGIN:VEVENT
UID:f08d3d1e9a8e88df5ef65848a56dcedb
DTSTAMP:20260422T102048Z
SUMMARY:Simchat Torah Lunch and Learn
DESCRIPTION:Jewish Federation of Greater Portland\nCommunity Calendar\nhttp
 s://jewishportland.org/community-calendar/simchat-torah-lunch-and-learn-16
 27677874\n\nSimchat Torah Lunch and Learn\nMonday\, September 27\, 12:00\n
 via Zoom\n\nZoom in with Rabbi Rachel L. Joseph for a lunchtime learning s
 ession. Link at www.bethisrael-pdx.org/joinus
DTSTART;TZID=America/Los_Angeles:20210927T120000
DTEND;TZID=America/Los_Angeles:20210927T130000
END:VEVENT
END:VCALENDAR
