BEGIN:VCALENDAR
PRODID:-//eluceo/ical//2.0/EN
VERSION:2.0
CALSCALE:GREGORIAN
BEGIN:VEVENT
UID:757fc754935f744ed3c5ad29cbbddb9d
DTSTAMP:20260424T012648Z
SUMMARY:Solomon's Legacy Presents: The Enabler and the Bystander
DESCRIPTION:Jewish Federation of Greater Portland\nCommunity Calendar\nhttp
 s://jewishportland.org/community-calendar/solomons-legacy-presents-the-ena
 bler-and-the-bystander\n\nSolomon's Legacy Presents: Challanges of Crimina
 lizing the Enabler and the Bystander\n\n\n\nThe Solomon’s Legacy Society
  is an affinity group of Jewish attorneys\, judges\, and law students in G
 reater Portland that strengthens relationships through educational\, socia
 l\, and philanthropic activities.\n\n\n\n\n*Networking will begin at 11:50
  AM in facilitated breakout rooms.\n\nProgram to follow immediately.\nCLE 
 Credit Pending.\n\nRegister Here\n \n\n 
DTSTART;TZID=America/Los_Angeles:20210527T114500
DTEND;TZID=America/Los_Angeles:20210527T131500
END:VEVENT
END:VCALENDAR
