BEGIN:VCALENDAR
PRODID:-//eluceo/ical//2.0/EN
VERSION:2.0
CALSCALE:GREGORIAN
BEGIN:VEVENT
UID:a3ae7c066eaa592bed1d46fb5c2bb695
DTSTAMP:20260420T054833Z
SUMMARY:Special Family Kabbalat Shabbat Service
DESCRIPTION:Jewish Federation of Greater Portland\nCommunity Calendar\nhttp
 s://jewishportland.org/community-calendar/special-family-kabbalat-shabbat-
 service\n\n \n\n\n\n\n\n\n\n\n\nSpecial Family Kabbalat Shabbat Service\n
 this Friday at 4:45 pm!\n\n\nNew offering at P'nai Or of Portland!\n\nOnce
  a month\, this January through April\, we’ll begin our Friday night Sha
 bbat gathering at 4:45 pm fo...
DTSTART;TZID=America/Los_Angeles:20210115T164500
DTEND;TZID=America/Los_Angeles:20210115T180000
END:VEVENT
END:VCALENDAR
