BEGIN:VCALENDAR
PRODID:-//eluceo/ical//2.0/EN
VERSION:2.0
CALSCALE:GREGORIAN
BEGIN:VEVENT
UID:2f5568bf744b39a06556103322b49a2d
DTSTAMP:20260421T163424Z
SUMMARY:Stories of Survival
DESCRIPTION:Jewish Federation of Greater Portland\nCommunity Calendar\nhttp
 s://jewishportland.org/community-calendar/stories-of-survival-1776058531\n
 \nCome and hear the Stories of Survival from three of our local Holocaust 
 Survivors. Everyone is welcome.\n\nThis gathering is for Yom ha Shoah.\n\n
 RSVP to Naomi.Leavitt@cedarsinaipark.org
DTSTART;TZID=America/Los_Angeles:20260414T140000
DTEND;TZID=America/Los_Angeles:20260414T160000
END:VEVENT
END:VCALENDAR
