BEGIN:VCALENDAR
PRODID:-//eluceo/ical//2.0/EN
VERSION:2.0
CALSCALE:GREGORIAN
BEGIN:VEVENT
UID:f9a1bd5faec65af165a2d5cfd11625ac
DTSTAMP:20260420T003912Z
SUMMARY:Sukkot Services Day 2 CST
DESCRIPTION:Jewish Federation of Greater Portland\nCommunity Calendar\nhttp
 s://jewishportland.org/community-calendar/sukkot-services-day-2-cst\n\nRab
 bi Oren & Cantor Vitells lead Sukkot Day 2 services from our Sukkah. Zoom 
 and livestreamed to our website and facebook page. No in person attendance
 .\n\nZoom link to join us (no registration needed): https://us02web.zoom.
 us/j/81665926415\n\nTo watch the livestream visit: shaarietorah.org/strea
 m\n\nFor all updated information and the full schedule for the High Holy D
 ays\, visit shaarietorah.org/hhd
DTSTART;TZID=America/Los_Angeles:20210921T091500
DTEND;TZID=America/Los_Angeles:20210921T123000
END:VEVENT
END:VCALENDAR
