BEGIN:VCALENDAR
PRODID:-//eluceo/ical//2.0/EN
VERSION:2.0
CALSCALE:GREGORIAN
BEGIN:VEVENT
UID:2b5a2abf1d05eeb70232ae6e4be0d916
DTSTAMP:20260423T231105Z
SUMMARY:Super Bowl Sunday at EJC 2026!
DESCRIPTION:Jewish Federation of Greater Portland\nCommunity Calendar\nhttp
 s://jewishportland.org/community-calendar/super-bowl-sunday-at-ejc-2026-17
 68428079\n\nCome watch the 2026 Super Bowl at the Commons on the big scree
 n!
DTSTART;TZID=America/Los_Angeles:20260208T140000
DTEND;TZID=America/Los_Angeles:20260208T180000
END:VEVENT
END:VCALENDAR
