BEGIN:VCALENDAR
PRODID:-//eluceo/ical//2.0/EN
VERSION:2.0
CALSCALE:GREGORIAN
BEGIN:VEVENT
UID:f13f51c4640435d841dd272d1e4529e2
DTSTAMP:20260419T142006Z
SUMMARY:Teen (Grades 8-12) Service
DESCRIPTION:Jewish Federation of Greater Portland\nCommunity Calendar\nhttp
 s://jewishportland.org/community-calendar/teen-grades-8-12-service-1691170
 961\n\nTeen (Grades 8-12) Service\n10:00 AM\nIn Person ONLY\nShemanski Cha
 pel\n\nA community-building service designed for our students in eighth th
 rough twelfth grades\n\nParticipants in our Teen Service will be walked ov
 er to the Main Sanctuary to join the Traditional Service at 11:00 AM.\n\nA
 ll who wish to join Congregation Beth Israel for the High Holidays are wel
 come to do so\; please register in advance at https://www.bethisrael-pdx.o
 rg/high-holidays-guests/
DTSTART;TZID=America/Los_Angeles:20230916T100000
DTEND;TZID=America/Los_Angeles:20230916T120000
END:VEVENT
END:VCALENDAR
