BEGIN:VCALENDAR
PRODID:-//eluceo/ical//2.0/EN
VERSION:2.0
CALSCALE:GREGORIAN
BEGIN:VEVENT
UID:d209717c1011bc03b1b86294a9027228
DTSTAMP:20260420T022351Z
SUMMARY:Teens and Parents field trip
DESCRIPTION:Jewish Federation of Greater Portland\nCommunity Calendar\nhttp
 s://jewishportland.org/community-calendar/teens-and-parents-field-trip-146
 41\n\nTeens and Parents field trip
DTSTART;TZID=America/Los_Angeles:20131023T180000
DTEND;TZID=America/Los_Angeles:20131023T201500
END:VEVENT
END:VCALENDAR
