BEGIN:VCALENDAR
PRODID:-//eluceo/ical//2.0/EN
VERSION:2.0
CALSCALE:GREGORIAN
BEGIN:VEVENT
UID:a3472ff275bc7f275f091f74d54196bb
DTSTAMP:20260424T064801Z
SUMMARY:The First Annual Beit Haverim Judith Kleinstein Lecture
DESCRIPTION:Jewish Federation of Greater Portland\nCommunity Calendar\nhttp
 s://jewishportland.org/community-calendar/the-first-annual-beit-haverim-ju
 dith-kleinstein-lecture-1618329119\n\nThe First Annual Beit Haverim Judith
  Kleinstein Lecture\nWednesday April 21\, 2021 at 12:00pm\n Live from The
  University of Aberdeen\, Scotland\n https://us02web.zoom.us/j/8207777510
 1\n\nDr. Thomas Weber\nThe acclaimed author of Hitler’s First War and
  Becoming Hitler\nwill speak on\nIn The Same Field of Vision:\nHitler\, T
 he Munich Beer Hall Putsch of 1923 and January 6\, 2021   \n\nThis event
  is open to both members and non-members.\nPlease share the information wi
 th friends and the com...
DTSTART;TZID=America/Los_Angeles:20210421T120000
DTEND;TZID=America/Los_Angeles:20210421T133000
END:VEVENT
END:VCALENDAR
