BEGIN:VCALENDAR
PRODID:-//eluceo/ical//2.0/EN
VERSION:2.0
CALSCALE:GREGORIAN
BEGIN:VEVENT
UID:1e4780fd9290c2a2085fcbb013bce001
DTSTAMP:20260422T001926Z
SUMMARY:The Shuk: A Day of Jewish Ideas\, Contemporary Art\, and Culture
DESCRIPTION:Jewish Federation of Greater Portland\nCommunity Calendar\nhttp
 s://jewishportland.org/community-calendar/the-shuk-a-day-of-jew-ideas\n\nT
 he Shuk is a full day of choose-your-own Jewish adventure\, featuring the 
 best of Portland’s local Jewish teachers\, artists\, and creative voices
 . A collaboration between the Federation and Art/Lab\, this event brings J
 ewish learning\, Jewish art-making\, and Jewish community into the same sp
 ace. Alongside workshops\, panels\, and lectures\, expect a shuk of Jewish
  vendors\, a kosher catered lunch\, a concert\, and more!
DTSTART;TZID=America/Los_Angeles:20260621T100000
DTEND;TZID=America/Los_Angeles:20260621T180000
END:VEVENT
END:VCALENDAR
