BEGIN:VCALENDAR
PRODID:-//eluceo/ical//2.0/EN
VERSION:2.0
CALSCALE:GREGORIAN
BEGIN:VEVENT
UID:fa02c4cd30ea175697abae2d67a1e152
DTSTAMP:20260419T171619Z
SUMMARY:Tikkun Leil Shavuot at Home
DESCRIPTION:Jewish Federation of Greater Portland\nCommunity Calendar\nhttp
 s://jewishportland.org/community-calendar/tikkun-leil-shavuot-at-home-1590
 095605\n\nJoin us for an evening of learning as we usher in Shavuot.\n\n7 
 pm - The Great Rendevouz with Rabbi Seven Weil\n8 pm -  Presentation with
  Rabbi Ken Brodkin\n8:30 pm - Presentation with Rebbetzin Aviel Brodkin\n9
  pm - Presentation with Rabbi Sholom Skolnik\n\nZOOM - zoom.us/j/503222123
 9
DTSTART;TZID=America/Los_Angeles:20200527T190000
DTEND;TZID=America/Los_Angeles:20200527T213000
END:VEVENT
END:VCALENDAR
