BEGIN:VCALENDAR
PRODID:-//eluceo/ical//2.0/EN
VERSION:2.0
CALSCALE:GREGORIAN
BEGIN:VEVENT
UID:58bd12cc2a353af2e5fe2178e5d2ffbb
DTSTAMP:20260425T211753Z
SUMMARY:United in the Field- A Jewish Pride Experience
DESCRIPTION:Jewish Federation of Greater Portland\nCommunity Calendar\nhttp
 s://jewishportland.org/community-calendar/united-in-the-field--a-jewish-pr
 ide-experience-1627441781\n\nChildren and adults of all ages. Join us for
  an afternoon of Jewish unity as we gather together to celebrate our Jewis
 h heritage.\n\nLet’s stand together and unite with positivity and joy. E
 njoy wonderful Klezmer music by talented artists and socialize with new fr
 iends.\n\nSunday August 22 in Fields Park 3-5pm\n\nAll are welcome\nChildr
 en and adults of all ages. \n\nRSVP at www.PDXCYP.org/events
DTSTART;TZID=America/Los_Angeles:20210822T150000
DTEND;TZID=America/Los_Angeles:20210822T170000
END:VEVENT
END:VCALENDAR
