BEGIN:VCALENDAR
PRODID:-//eluceo/ical//2.0/EN
VERSION:2.0
CALSCALE:GREGORIAN
BEGIN:VEVENT
UID:dcfe1e1363ee1b80b148d906c7d31363
DTSTAMP:20260425T135023Z
SUMMARY:Unorthodox
DESCRIPTION:Jewish Federation of Greater Portland\nCommunity Calendar\nhttp
 s://jewishportland.org/community-calendar/unorthodox-1594911820\n\nJoin us
  in unpacking the secrets of the Jewish perspective on marriage and intima
 cy with Mrs. Miriam Lipskier.\n\nRegister here: www.jewishnortheast.com/u
 northodox\n\nMiriam Lipskier is the co-founder and director of the Chabad 
 Student Centre at Emory University in Atlanta\, Georgia. Together with her
  husband and eight children\, they have created a vibrant community of Jew
 ish life and learning\, hosting Shabbat dinners for hundreds of students e
 ach week. Miriam is a dynamic teacher of Jewish t...
DTSTART;TZID=America/Los_Angeles:20200727T200000
DTEND;TZID=America/Los_Angeles:20200727T213000
END:VEVENT
END:VCALENDAR
