BEGIN:VCALENDAR
PRODID:-//eluceo/ical//2.0/EN
VERSION:2.0
CALSCALE:GREGORIAN
BEGIN:VEVENT
UID:c745372d79f687675d57dce8e55c2f21
DTSTAMP:20260422T183106Z
SUMMARY:Used Book Sale - POSTPONED
DESCRIPTION:Jewish Federation of Greater Portland\nCommunity Calendar\nhttp
 s://jewishportland.org/community-calendar/used-book-sale-winter-2020\n\nPL
 EASE NOTE: THE MJCC AND PJA USED BOOK SALE HAS BEEN POSTPONED UNTIL FURTHE
 R NOTICE. CHECK BACK FOR RESCHEDULED DATES. \n\n \n\n \n\nSupport the M
 JCC and PJA communities during our annual Used Book Sale. Finds thousands 
 of books at great prices!\n 
DTSTART;TZID=America/Los_Angeles:20200329T000000
DTEND;TZID=America/Los_Angeles:20200331T235959
END:VEVENT
END:VCALENDAR
