BEGIN:VCALENDAR
PRODID:-//eluceo/ical//2.0/EN
VERSION:2.0
CALSCALE:GREGORIAN
BEGIN:VEVENT
UID:c1bb5b09df136388a0aec9077c2ba12d
DTSTAMP:20260423T124300Z
SUMMARY:Virtual Camp - BB Camp Online Events
DESCRIPTION:Jewish Federation of Greater Portland\nCommunity Calendar\nhttp
 s://jewishportland.org/community-calendar/virtual-camp-bb-camp-online-even
 ts\n\nWELCOME TO VIRTUAL SPRING CAMP\n\nEnjoy activities from home with yo
 ur favorite camp on earth!\n\nSome activities require prepared materials\,
  to be gathered at home ahead of time.\n\nA piece of Camp at home – BB
  Camp Playlist on Spotify – play the music your kids listen to at camp
  and have a sing-a-long and dance parties!\n\nVisit BB Camp online at: 
  https://bbcamp.org/virtual-camp/
DTSTART;TZID=America/Los_Angeles:20200327T110000
DTEND;TZID=America/Los_Angeles:20200327T150000
END:VEVENT
END:VCALENDAR
