BEGIN:VCALENDAR
PRODID:-//eluceo/ical//2.0/EN
VERSION:2.0
CALSCALE:GREGORIAN
BEGIN:VEVENT
UID:d53fe83df011894189e0783fd5bc0a18
DTSTAMP:20260420T004816Z
SUMMARY:Virtual Drasha - Ethics of a Lockdown
DESCRIPTION:Jewish Federation of Greater Portland\nCommunity Calendar\nhttp
 s://jewishportland.org/community-calendar/virtual-drasha---ethics-of-a-loc
 kdown-1589381332\n\nExploring the meaning of Pikuach Nefesh and how thi
 s Mitzvah applies in our times - with Rabbi Ken Brodkin \n\nZoom Link: zo
 om.us/j/381655025
DTSTART;TZID=America/Los_Angeles:20200514T200000
DTEND;TZID=America/Los_Angeles:20200514T203000
END:VEVENT
END:VCALENDAR
