BEGIN:VCALENDAR
PRODID:-//eluceo/ical//2.0/EN
VERSION:2.0
CALSCALE:GREGORIAN
BEGIN:VEVENT
UID:9171cf3f14fe4d71f0e6a96260857718
DTSTAMP:20260420T082507Z
SUMMARY:Virtual Kabbalat Shabbat at CNS
DESCRIPTION:Jewish Federation of Greater Portland\nCommunity Calendar\nhttp
 s://jewishportland.org/community-calendar/virtual-kabbalat-shabbat-at-cns\
 n\nPlease *virtually* join Neveh Shalom for our weekly Kabbalat Shabbat se
 rvice.\n\nPlease click here for more details: https://nevehshalom.org/vir
 tual-services/
DTSTART;TZID=America/Los_Angeles:20200320T181500
DTEND;TZID=America/Los_Angeles:20200320T191500
END:VEVENT
END:VCALENDAR
