BEGIN:VCALENDAR
PRODID:-//eluceo/ical//2.0/EN
VERSION:2.0
CALSCALE:GREGORIAN
BEGIN:VEVENT
UID:1630f6e8c3467791460e2358796e57e1
DTSTAMP:20260423T131942Z
SUMMARY:Virtual Open House with Eden Village West
DESCRIPTION:Jewish Federation of Greater Portland\nCommunity Calendar\nhttp
 s://jewishportland.org/community-calendar/virtual-open-house-with-eden-vil
 lage-west-1584394477\n\nHello PNW families! We are inviting you to join ou
 r Assistant Director\, Zach\, and Operations Manager\, Nava\, on a virtual
  tour of camp! You'll get to see camp\, learn about our facility\, program
 s\, mission\, and environment\, ask questions\, get information specific t
 o your community\, and meet other campers and prospective campers!\n\nPlea
 se go to http://www.edenvillagewest.org/event/virtual-open-house/ for mo
 re info and to access the video link!
DTSTART;TZID=America/Los_Angeles:20200326T183000
DTEND;TZID=America/Los_Angeles:20200326T193000
END:VEVENT
END:VCALENDAR
