BEGIN:VCALENDAR
PRODID:-//eluceo/ical//2.0/EN
VERSION:2.0
CALSCALE:GREGORIAN
BEGIN:VEVENT
UID:6623465f1da9b5ccc9890e45d7613651
DTSTAMP:20260421T075018Z
SUMMARY:Weekly Wednesday Update - Consul General Matan Zamir
DESCRIPTION:Jewish Federation of Greater Portland\nCommunity Calendar\nhttp
 s://jewishportland.org/community-calendar/weekly-wednesday-update-matan-za
 mir\n\nJoin the Jewish Federation of Greater Portland for an Israel Briefi
 ng during COVID-19 with\n\nIsraeli Deputy Consul General Matan Zamir \nIs
 rael briefing update during COVID-19\n\nWednesday\, May 20th\n4:00 p.m. --
  via Zoom\n\n 
DTSTART;TZID=America/Los_Angeles:20200520T160000
DTEND;TZID=America/Los_Angeles:20200520T170000
END:VEVENT
END:VCALENDAR
