BEGIN:VCALENDAR
PRODID:-//eluceo/ical//2.0/EN
VERSION:2.0
CALSCALE:GREGORIAN
BEGIN:VEVENT
UID:34b668eeb7fb1b1580f9b1eec2771b07
DTSTAMP:20260422T184214Z
SUMMARY:Weekly Wednesday Update - Rich Brownstein
DESCRIPTION:Jewish Federation of Greater Portland\nCommunity Calendar\nhttp
 s://jewishportland.org/community-calendar/weekly-wednesday-update-rich-bro
 wnstein\n\nWeekly Wednesday Update with Rich Brownstein\n\nA Brief Histor
 y of 75 Years of Holocaust Films:\nFrom The Great Dictator to Schindler's 
 List to Jojo Rabbit\n\n \n\nWednesday\, July 1st\n1:00 p.m. -- via Zoom
DTSTART;TZID=America/Los_Angeles:20200701T130000
DTEND;TZID=America/Los_Angeles:20200701T140000
END:VEVENT
END:VCALENDAR
