BEGIN:VCALENDAR
PRODID:-//eluceo/ical//2.0/EN
VERSION:2.0
CALSCALE:GREGORIAN
BEGIN:VEVENT
UID:1a1b96520a7387c9b5aa24e62e8b5242
DTSTAMP:20260421T103651Z
SUMMARY:Why the Golem? with Leora Troper
DESCRIPTION:Jewish Federation of Greater Portland\nCommunity Calendar\nhttp
 s://jewishportland.org/community-calendar/why-the-golem-with-leora-troper\
 n\nAdult Ed: Why the Golem? with Leora Troper\nWednesdays\, beginning Febr
 uary 4 | 7:00-8:30pm (No classes Mar 25\, Apr 1\, Apr 8)\nRSVP Here\n\n\n\
 nMost people have heard of the golem of Prague\, but what about the golem 
 of Chelm? Which one was the “real” golem? And why is there such a prol
 iferation of modern golems\, from the Simpsons to Minecraft\, not to menti
 on the growing number of golem novels for adults and picture books for kid
 s. Was Superman a golem? What about AI?\n\nJoin this course to...
DTSTART;TZID=America/Los_Angeles:20260204T190000
DTEND;TZID=America/Los_Angeles:20260204T203000
END:VEVENT
END:VCALENDAR
