BEGIN:VCALENDAR
PRODID:-//eluceo/ical//2.0/EN
VERSION:2.0
CALSCALE:GREGORIAN
BEGIN:VEVENT
UID:f39ba5afa233924e770eda0340d23cdc
DTSTAMP:20260423T193516Z
SUMMARY:Wise Aging
DESCRIPTION:Jewish Federation of Greater Portland\nCommunity Calendar\nhttp
 s://jewishportland.org/community-calendar/wise-aging-march-2020\n\nWise Ag
 ing: Living with Joy\, Resilience and Spirit.\n\n \n\nThis five week prog
 ram will explore how to live our lives with intention. Each interactive se
 ssion will include opportunities for personal sharing\, contemplative list
 ening\, basic mindfulness practice\, and text study.\n\n \n\nBased on the
  nationally recognized program developed by the Institute for Jewish Spiri
 tuality (IJS)\, these workshops are designed to help participants explore 
 the years beyond mid-life as a unique opportunity f...
DTSTART;TZID=America/Los_Angeles:20200305T100000
DTEND;TZID=America/Los_Angeles:20200305T120000
END:VEVENT
END:VCALENDAR
