BEGIN:VCALENDAR
PRODID:-//eluceo/ical//2.0/EN
VERSION:2.0
CALSCALE:GREGORIAN
BEGIN:VEVENT
UID:74e684e76ae3f2ce718971a7d7e4f8cb
DTSTAMP:20260423T135529Z
SUMMARY:Wondering Jews: Hamentaschen & Blessings
DESCRIPTION:Jewish Federation of Greater Portland\nCommunity Calendar\nhttp
 s://jewishportland.org/community-calendar/wondering-jews-hamentaschen--ble
 ssings-1582835114\n\nWondering Jews: Hamentaschen & Blessings\n\nWed\, Mar
 ch 4\, 2:00pm\n\nJoin us for a special program all about blessings\, famil
 y ties\, and how we are connected\, regardless of religion and cultures. L
 ong-term Neveh Shalom member\, teacher\, and artist Laurie Fendel will tea
 ch about blessings\, and distribute blessing-filled hamantaschens.\n\nFoll
 owing Laurie’s sharing about Jewish blessings and our culture… special
  guest Harold Odhiambo\, Coordinator of Interpreter Relations at "Passport
  to Langu...
DTSTART;TZID=America/Los_Angeles:20200304T140000
DTEND;TZID=America/Los_Angeles:20200304T160000
END:VEVENT
END:VCALENDAR
