BEGIN:VCALENDAR
PRODID:-//eluceo/ical//2.0/EN
VERSION:2.0
CALSCALE:GREGORIAN
BEGIN:VEVENT
UID:b7bdf119b6527c68cc548ed1df024bb4
DTSTAMP:20260423T102021Z
SUMMARY:Wondering Jews Visit the “Leonard Bernstein at 100” Exhibit at 
 OJMCHE
DESCRIPTION:Jewish Federation of Greater Portland\nCommunity Calendar\nhttp
 s://jewishportland.org/community-calendar/wondering-jews-visit-the-leonard
 -bernstein-at-100-exhibit-at-ojmche\n\nWondering Jews Visit the “Leonard
  Bernstein at 100” Exhibit at OJMCHE\, Thursday\, January 16\, 2:00pm\n\
 nPlease join the Wondering Jews (65+) as they visit the Leonard Bernstein 
 at 100 exhibit at the Oregon Jewish Museum.\n\nRSVP: programs@nevehshalom.
 org
DTSTART;TZID=America/Los_Angeles:20200116T140000
DTEND;TZID=America/Los_Angeles:20200116T160000
END:VEVENT
END:VCALENDAR
