BEGIN:VCALENDAR
PRODID:-//eluceo/ical//2.0/EN
VERSION:2.0
CALSCALE:GREGORIAN
BEGIN:VEVENT
UID:bafa8e0c9f7ed258bab86e4b0474b589
DTSTAMP:20260423T154951Z
SUMMARY:Workshop: CHAIA\,  Yiddishist\, The Art of Unaccompanied Yiddish Fo
 lksong
DESCRIPTION:Jewish Federation of Greater Portland\nCommunity Calendar\nhttp
 s://jewishportland.org/community-calendar/workshop-chaia--yiddishist-the-a
 rt-of-unaccompanied-yiddish-folksong-1775609778\n\nLearn how to imitate th
 e tone and inflection of unaccompanied Yiddish folksong in this deep dive 
 workshop! J
DTSTART;TZID=America/Los_Angeles:20260509T150000
DTEND;TZID=America/Los_Angeles:20260509T163000
END:VEVENT
END:VCALENDAR
