BEGIN:VCALENDAR
PRODID:-//eluceo/ical//2.0/EN
VERSION:2.0
CALSCALE:GREGORIAN
BEGIN:VEVENT
UID:84db198bf832ebc343f19993f812e782
DTSTAMP:20260425T135243Z
SUMMARY:Yom HaZikaron - A Portland Community Commemoration
DESCRIPTION:Jewish Federation of Greater Portland\nCommunity Calendar\nhttp
 s://jewishportland.org/community-calendar/yom-hazikaron-april-2020\n\nVirt
 ual Yom HaZikaron Commemoration\nMonday\, April 27\; 7:30 PM\n \n\nPlease
  join our Portland Israeli and Jewish communities\, as we honor those who
  have given their lives for the State of Israel. This will be a 30-minute
  virtual program hosted on Zoom. \n\nTo register for the event\, please v
 isit: https://zoom.us/webinar/register/WN_306EIywkTF2h0wqWKVG53Q
DTSTART;TZID=America/Los_Angeles:20200427T194500
DTEND;TZID=America/Los_Angeles:20200427T210000
END:VEVENT
END:VCALENDAR
