BEGIN:VCALENDAR
PRODID:-//eluceo/ical//2.0/EN
VERSION:2.0
CALSCALE:GREGORIAN
BEGIN:VEVENT
UID:fb9dc1c36400b482f642fd8194eb2f15
DTSTAMP:20260422T212757Z
SUMMARY:Yom Hazikaron Eve
DESCRIPTION:Jewish Federation of Greater Portland\nCommunity Calendar\nhttp
 s://jewishportland.org/community-calendar/yom-hazikaron-eve-508594\n\nTBA
DTSTART;TZID=America/Los_Angeles:20260420T190000
DTEND;TZID=America/Los_Angeles:20260420T203000
END:VEVENT
END:VCALENDAR
