BEGIN:VCALENDAR
PRODID:-//eluceo/ical//2.0/EN
VERSION:2.0
CALSCALE:GREGORIAN
BEGIN:VEVENT
UID:2169fe91a58a57aea720cac0195bd8e5
DTSTAMP:20260422T095331Z
SUMMARY:Yom Kippur Family Tefillah with Congregation Shir Tikvah
DESCRIPTION:Jewish Federation of Greater Portland\nCommunity Calendar\nhttp
 s://jewishportland.org/community-calendar/yom-kippur-family-tefillah-with-
 congregation-shir-tikvah-244191\n\nJoin Rabbi Ariel Stone and our Tefillah
  Leaders for this Yom Kippur services suitable for families with children 
 12 and under.
DTSTART;TZID=America/Los_Angeles:20170930T131500
DTEND;TZID=America/Los_Angeles:20170930T134500
END:VEVENT
END:VCALENDAR
