BEGIN:VCALENDAR
PRODID:-//eluceo/ical//2.0/EN
VERSION:2.0
CALSCALE:GREGORIAN
BEGIN:VEVENT
UID:9d79a64a232af83400ca3fc0a15a6cde
DTSTAMP:20260423T230340Z
SUMMARY:Yom Kippur Traditional Service
DESCRIPTION:Jewish Federation of Greater Portland\nCommunity Calendar\nhttp
 s://jewishportland.org/community-calendar/yom-kippur-traditional-service-1
 627676863\n\nYom Kippur Traditional Service\nThursday\, September 16\, 10:
 00 AM\nMain Sanctuary\nThis service will also be available online\n\nOn Yo
 m Kippur\, our Traditional Service with sermon from Rabbi Rachel Joseph be
 gins at 10:00 AM in the Main Sanctuary\; opportunites for study\, connecti
 on\, and contemplation will continue throughout the day.\n\nAs our communi
 ty’s response to the Covid-19 pandemic continues to evolve\, this schedu
 le and its details are subject to change. The High Holidays section of...
DTSTART;TZID=America/Los_Angeles:20210916T100000
DTEND;TZID=America/Los_Angeles:20210916T120000
END:VEVENT
END:VCALENDAR
