BEGIN:VCALENDAR
PRODID:-//eluceo/ical//2.0/EN
VERSION:2.0
CALSCALE:GREGORIAN
BEGIN:VEVENT
UID:90a3b8696768851a21d9264a017befbc
DTSTAMP:20260425T034936Z
SUMMARY:Krav Maga Introductory Course
DESCRIPTION:Jewish Federation of Greater Portland\nHealthy Living\nhttps://
 jewishportland.org/healthy-living/krav-maga-515106\n\nLearn Krav Maga\, a 
 form of self-defense at the MJCC!
DTSTART;TZID=America/Los_Angeles:20260426T100000
DTEND;TZID=America/Los_Angeles:20260426T110000
END:VEVENT
END:VCALENDAR
