BEGIN:VCALENDAR
PRODID:-//eluceo/ical//2.0/EN
VERSION:2.0
CALSCALE:GREGORIAN
BEGIN:VEVENT
UID:9dcd69b111c400b55b9d21d916c26460
DTSTAMP:20260424T060854Z
SUMMARY:“MATTER OF MIND: MY PARKINSON’S”
DESCRIPTION:Jewish Federation of Greater Portland\nHealthy Living\nhttps://
 jewishportland.org/healthy-living/matter-of-mind-my-parkinsons-1707938205-
 460016\n\nEJC and Indie Pop present the acclaimed documentary\, “Matter 
 of Mind: My Parkinson's”\, which explores the poignant stories of indivi
 duals as they manage symptoms and treatments\, along the way to living ful
 filling lives.
DTSTART;TZID=America/Los_Angeles:20240313T190000
DTEND;TZID=America/Los_Angeles:20240313T203000
END:VEVENT
END:VCALENDAR
