BEGIN:VCALENDAR
PRODID:-//eluceo/ical//2.0/EN
VERSION:2.0
CALSCALE:GREGORIAN
BEGIN:VEVENT
UID:921217dd23485790ae7958d6d24a422f
DTSTAMP:20260421T173200Z
SUMMARY:Neveh Shalom Men’s club 5k to support the CNS Food Pantry
DESCRIPTION:Jewish Federation of Greater Portland\nHealthy Living\nhttps://
 jewishportland.org/healthy-living/neveh-shalom-mens-club-5k-to-support-the
 -cns-food-pantry-1772748136-512549\n\nSee above!
DTSTART;TZID=America/Los_Angeles:20260315T090000
DTEND;TZID=America/Los_Angeles:20260315T110000
END:VEVENT
END:VCALENDAR
