BEGIN:VCALENDAR
PRODID:-//eluceo/ical//2.0/EN
VERSION:2.0
CALSCALE:GREGORIAN
BEGIN:VEVENT
UID:43d326bc1af0dadc3047df9bc6076ac2
DTSTAMP:20260422T085822Z
SUMMARY:CST Erev Yom Kippur: Kol Nidre Services
DESCRIPTION:Jewish Federation of Greater Portland\nHigh Holy Days\nhttps://
 jewishportland.org/highholidays/cst-erev-yom-kippur-kol-nidre-services-172
 6247082\n\nJoin Congregation Shaarie Torah for Erev Yom Kippur: Kol Nidre 
 Services beginning at 6pm.
DTSTART;TZID=America/Los_Angeles:20241011T180000
DTEND;TZID=America/Los_Angeles:20241011T193000
END:VEVENT
END:VCALENDAR
